BEGIN:VCALENDAR
VERSION:2.0
PRODID:spatie/icalendar-generator
DESCRIPTION:Évènements de La Tour de Juvisy
X-WR-CALDESC:Évènements de La Tour de Juvisy
REFRESH-INTERVAL;VALUE=DURATION:PT1440M
X-PUBLISHED-TTL:PT1440M
BEGIN:VTIMEZONE
TZID:Europe/Paris
BEGIN:DAYLIGHT
DTSTART:20250330T020000Z
TZOFFSETFROM:+0100
TZOFFSETTO:+0200
END:DAYLIGHT
BEGIN:STANDARD
DTSTART:20251026T030000Z
TZOFFSETFROM:+0200
TZOFFSETTO:+0100
END:STANDARD
END:VTIMEZONE
BEGIN:VTIMEZONE
TZID:UTC
BEGIN:STANDARD
DTSTART:20250726T073543Z
TZOFFSETFROM:+0000
TZOFFSETTO:+0000
END:STANDARD
END:VTIMEZONE
BEGIN:VEVENT
UID:125-123
DTSTAMP:20260422T073543Z
SUMMARY:Cours
LOCATION:
ORGANIZER;CN=Sebastien GAUDIN:MAILTO:sebgaudin@yahoo.fr
DTSTART;TZID=Europe/Paris;VALUE=DATE:20250913
DTEND;TZID=Europe/Paris;VALUE=DATE:20250914
X-ALT-DESC;FMTTYPE=TEXT/HTML:
CATEGORIES:Cours du samedi
URL;VALUE=URI:https://latourdejuvisy.com/mc-events/cours-47/
METHOD:PUBLISH
END:VEVENT
END:VCALENDAR